BEGIN:VCALENDAR
VERSION:2.0
PRODID:-//Yoga Onlinekurs
CALSCALE:GREGORIAN
METHOD:PUBLISH
X-WR-CALNAME:Yoga Onlinekurs
X-ORIGINAL-URL:https://yoga-onlinekurs.de/shop/online-live-zeit-fuer-dich-yin-yoga-klangreise-mit-tina-buch-90-minuten/
X-WR-CALDESC:Online Live: „Zeit für dich – Yin Yoga &#038; Klangreise“ mit Tina Buch (90 Minuten)
BEGIN:VEVENT
DTSTART;TZID=Europe/Helsinki:20260505T193000
DTEND;TZID=Europe/Helsinki:20260505T210000
SUMMARY:Online Live: „Zeit für dich – Yin Yoga & Klangreise“ mit Tina Buch (90 Minuten)
DESCRIPTION:
URL:https://yoga-onlinekurs.de/shop/online-live-zeit-fuer-dich-yin-yoga-klangreise-mit-tina-buch-90-minuten/
LOCATION:
END:VEVENT
END:VCALENDAR
