BEGIN:VCALENDAR
VERSION:2.0
PRODID:-//Yoga Onlinekurs
CALSCALE:GREGORIAN
METHOD:PUBLISH
X-WR-CALNAME:Yoga Onlinekurs
X-ORIGINAL-URL:https://yoga-onlinekurs.de/shop/online-live-yin-yoga-akupressurpunkte-bei-schulter-nacken-verspannungen-mit-shanti-grit-wade-90-minuten/
X-WR-CALDESC:Online Live: „Yin Yoga &#038; Akupressurpunkte bei Schulter-Nacken Verspannungen“ mit Shanti Grit Wade (90 Minuten)
BEGIN:VEVENT
DTSTART;TZID=Europe/Helsinki:20260630T193000
DTEND;TZID=Europe/Helsinki:20260630T210000
SUMMARY:Online Live: „Yin Yoga & Akupressurpunkte bei Schulter-Nacken Verspannungen“ mit Shanti Grit Wade (90 Minuten)
DESCRIPTION:
URL:https://yoga-onlinekurs.de/shop/online-live-yin-yoga-akupressurpunkte-bei-schulter-nacken-verspannungen-mit-shanti-grit-wade-90-minuten/
LOCATION:
END:VEVENT
END:VCALENDAR
