BEGIN:VCALENDAR
VERSION:2.0
PRODID:-//Yoga Onlinekurs
CALSCALE:GREGORIAN
METHOD:PUBLISH
X-WR-CALNAME:Yoga Onlinekurs
X-ORIGINAL-URL:https://yoga-onlinekurs.de/shop/online-live-klangreise-mit-beatrice-durot/
X-WR-CALDESC:Online Live: &#8222;Klangreise&#8220; mit Beatrice Durot
BEGIN:VEVENT
DTSTART;TZID=Europe/Helsinki:20260616T193000
DTEND;TZID=Europe/Helsinki:20260616T203000
SUMMARY:Online Live: „Klangreise“ mit Beatrice Durot
DESCRIPTION:
URL:https://yoga-onlinekurs.de/shop/online-live-klangreise-mit-beatrice-durot/
LOCATION:
END:VEVENT
END:VCALENDAR
